BEGIN:VCALENDAR
VERSION:2.0
PRODID:-//Suicide Prevention Alliance - ECPv6.6.4.2//NONSGML v1.0//EN
CALSCALE:GREGORIAN
METHOD:PUBLISH
X-ORIGINAL-URL:https://www.suicidepreventionalliance.org
X-WR-CALDESC:Events for Suicide Prevention Alliance
REFRESH-INTERVAL;VALUE=DURATION:PT1H
X-Robots-Tag:noindex
X-PUBLISHED-TTL:PT1H
BEGIN:VTIMEZONE
TZID:America/New_York
BEGIN:DAYLIGHT
TZOFFSETFROM:-0500
TZOFFSETTO:-0400
TZNAME:EDT
DTSTART:20250309T070000
END:DAYLIGHT
BEGIN:STANDARD
TZOFFSETFROM:-0400
TZOFFSETTO:-0500
TZNAME:EST
DTSTART:20251102T060000
END:STANDARD
END:VTIMEZONE
BEGIN:VEVENT
DTSTART;TZID=America/New_York:20250907T080000
DTEND;TZID=America/New_York:20250913T170000
DTSTAMP:20260425T075037
CREATED:20250117T200532Z
LAST-MODIFIED:20250117T200532Z
UID:1371-1757232000-1757782800@www.suicidepreventionalliance.org
SUMMARY:Suicide Prevention Week 2025
DESCRIPTION:
URL:https://www.suicidepreventionalliance.org/event/suicide-prevention-week-2025/
END:VEVENT
BEGIN:VEVENT
DTSTART;TZID=America/New_York:20250910T100000
DTEND;TZID=America/New_York:20250910T113000
DTSTAMP:20260425T075037
CREATED:20250818T174734Z
LAST-MODIFIED:20250818T174918Z
UID:1483-1757498400-1757503800@www.suicidepreventionalliance.org
SUMMARY:2025 Suicide Prevention/Awareness Day at the Capitol - September 10\, 2025
DESCRIPTION:  \nSuicide Prevention Alliance will host Suicide Awareness Day at the Pennsylvania State Capitol on September 10th\, from 10:00 am – 11:30 pm.  Join suicide prevention advocates\, suicide attempt and loss survivors\, legislators\, Suicide Prevention Task Forces\, and mental health professionals for an important day at the Capitol. We will be raising awareness for suicide prevention and offering hope at the PA State Capitol Rotunda.  Display tables will provide free information such as brochures\, resources\, wristbands\, etc. \nAccording to the latest statistics\, ​1\,936 people died by suicide in Pennsylvania\, which averages approximately 5 per day who take their own lives.  In PA\, suicide is the 2nd leading cause of death between ages 15-24\, the 3rd leading cause of death between ages 35-44\, and the 4th leading cause of death between ages 45-54.    \nWHO SHOULD COME:  Suicide Prevention Advocates\, County Suicide Prevention Task Forces\, Mental Health Professionals\, and all those who have been impacted by suicide.   \n​WHERE: Pennsylvania State Capitol\n501 N 3rd Street\, Harrisburg\, PA 17120 \nWHAT: Provide awareness of suicide in Pennsylvania \nWHEN: September 10\, 2025    10:00 AM – 11:30 PM \n  \n 
URL:https://www.suicidepreventionalliance.org/event/2025-suicide-prevention-awareness-day-at-the-capitol-september-10-2025/
LOCATION:PA State Capitol\, 501 N 3rd Street\, Harrisburg\, Pennsylvania\, 17120
ORGANIZER;CN="Suicide Prevention Alliance":MAILTO:info@suicidepreventionalliance.org
END:VEVENT
END:VCALENDAR