BEGIN:VCALENDAR
VERSION:2.0
PRODID:-//Suicide Prevention Alliance - ECPv6.6.4.2//NONSGML v1.0//EN
CALSCALE:GREGORIAN
METHOD:PUBLISH
X-WR-CALNAME:Suicide Prevention Alliance
X-ORIGINAL-URL:https://www.suicidepreventionalliance.org
X-WR-CALDESC:Events for Suicide Prevention Alliance
REFRESH-INTERVAL;VALUE=DURATION:PT1H
X-Robots-Tag:noindex
X-PUBLISHED-TTL:PT1H
BEGIN:VTIMEZONE
TZID:America/New_York
BEGIN:DAYLIGHT
TZOFFSETFROM:-0500
TZOFFSETTO:-0400
TZNAME:EDT
DTSTART:20250309T070000
END:DAYLIGHT
BEGIN:STANDARD
TZOFFSETFROM:-0400
TZOFFSETTO:-0500
TZNAME:EST
DTSTART:20251102T060000
END:STANDARD
END:VTIMEZONE
BEGIN:VEVENT
DTSTART;TZID=America/New_York:20250609T183000
DTEND;TZID=America/New_York:20250609T203000
DTSTAMP:20260421T112911
CREATED:20250603T184356Z
LAST-MODIFIED:20250603T184356Z
UID:1453-1749493800-1749501000@www.suicidepreventionalliance.org
SUMMARY:Shine On Event
DESCRIPTION:On June 9\, 2017\, Dawn Herr died by suicide. Each year on the anniversary\, Dawn’s sister Darla chooses to bring light to the importance of Suicide Awareness/Prevention and Mental Health. May we Shine On others with kindness and encouragement. Be a Light to others.We will have rock painting\, ice cream\, and more. Come out\, invite others\, share the event. \nALL FREE!!! Event is in Pavilion. Pavilion is enclosed. \n 
URL:https://www.suicidepreventionalliance.org/event/shine-on-event/
LOCATION:Conewago Church of the Brethren\, 7035 School House Rd\, Hershey\, PA\, 17033-9220\, United States
END:VEVENT
BEGIN:VEVENT
DTSTART;TZID=America/New_York:20250620T140000
DTEND;TZID=America/New_York:20250621T140000
DTSTAMP:20260421T112911
CREATED:20250604T004627Z
LAST-MODIFIED:20250604T004627Z
UID:1459-1750428000-1750514400@www.suicidepreventionalliance.org
SUMMARY:Run on the Roof 2025
DESCRIPTION:This June marks the 20th anniversary of our founder\, Gary Houck Jr.\, creating The Kids Trust 💛 Its mission – to help children of abuse grow up in a happy\, safe\, and exciting environment. This fundraiser was created over 25 years ago by Gary Houck Jr\, who tragically died by suicide.  Kara (Houck) McCaffrey has now created a fundraiser to not only honor her brother\, but also help carry on the mission of her brother\, Gary. \nIn his memory\, The Kids Trust Fund is a fund of The Foundation for Enhancing Communities. His board and family will establish the activities and benefactors of The Kids Trust. It is a perpetual fund\, and will always accept contributions\, suggestions\, and seek to fulfill Gary’s mission statement. \nGary Jr. always loved and was so good with young children. The Kids Trust fund will allow his love and efforts to continue for all the years to come. \nWhen? Friday\, June 20 from 2pm to Saturday\, June 21 2pm *with Family Fun Day on Saturday* \nWhere? Madden & Gilbert Physical Therapy (5425 Jonestown Road\, Harrisburg\, PA 17112) \nWant to run/walk or volunteer? Awesome\, please reach out to mccaffrey.kara@gmail.com. \nWant to donate? Thank you! You can do so here: https://thekidstrust.org/donations/make-a-donation/ \nWant to sponsor? Amazing! Please reach out to mccaffrey.kara@gmail.com. \n \n  \n 
URL:https://www.suicidepreventionalliance.org/event/run-on-the-roof-2025/
LOCATION:Madden  & Gilbert Physical Therapy\, 5425 Jonestown Road\, Harrisburg\, PA\, 17112\, United States
ORGANIZER;CN="Kara McCaffrey":MAILTO:mccaffrey.kara@gmail.com
END:VEVENT
BEGIN:VEVENT
DTSTART;TZID=America/New_York:20250625T140000
DTEND;TZID=America/New_York:20250625T153000
DTSTAMP:20260421T112911
CREATED:20250124T031301Z
LAST-MODIFIED:20250124T031301Z
UID:1377-1750860000-1750865400@www.suicidepreventionalliance.org
SUMMARY:Monthly Suicide Prevention Task Force/Organizations – June
DESCRIPTION:Every 4th (fourth) Wednesday of each month (unless otherwise noted) at 2:00 pm\, Suicide Prevention Alliance hosts a monthly meeting for all Suicide Prevention Task Forces and other people/organizations that are in the field of suicide prevention to attend to discuss what is going in their respective areas concerning prevention\, intervention\, and postvention.  We welcome anyone in the suicide prevention field to participate in these meetings.  Meetings usually are approximately 90 minutes in length.   Please see the link below to attend. \nIf you have any questions\, please contact: Govan Martin\, at govanmartin3@gmail.com \nSuicide Prevention Alliance & Task Forces Monthly Meeting 4th Wednesday 2pm\nJoin Zoom Meeting\nhttps://us02web.zoom.us/j/82113860237?pwd=UEZ4L2orRDRDZTA3R2NaNXJhVmpOdz09\nMeeting ID: 821 1386 0237\nPasscode: 123456 \nOne tap mobile\n+13052241968\,\,82113860237#\,\,\,\,*123456# US\n+13092053325\,\,82113860237#\,\,\,\,*123456# US
URL:https://www.suicidepreventionalliance.org/event/monthly-suicide-prevention-task-force-organizations-june/
END:VEVENT
END:VCALENDAR